BEGIN:VCALENDAR
VERSION:2.0
PRODID:-//Judo Guebwiller - ECPv6.15.20//NONSGML v1.0//EN
CALSCALE:GREGORIAN
METHOD:PUBLISH
X-ORIGINAL-URL:https://judo-guebwiller.fr
X-WR-CALDESC:Évènements pour Judo Guebwiller
REFRESH-INTERVAL;VALUE=DURATION:PT1H
X-Robots-Tag:noindex
X-PUBLISHED-TTL:PT1H
BEGIN:VTIMEZONE
TZID:Europe/Paris
BEGIN:DAYLIGHT
TZOFFSETFROM:+0100
TZOFFSETTO:+0200
TZNAME:CEST
DTSTART:20250330T010000
END:DAYLIGHT
BEGIN:STANDARD
TZOFFSETFROM:+0200
TZOFFSETTO:+0100
TZNAME:CET
DTSTART:20251026T010000
END:STANDARD
BEGIN:DAYLIGHT
TZOFFSETFROM:+0100
TZOFFSETTO:+0200
TZNAME:CEST
DTSTART:20260329T010000
END:DAYLIGHT
BEGIN:STANDARD
TZOFFSETFROM:+0200
TZOFFSETTO:+0100
TZNAME:CET
DTSTART:20261025T010000
END:STANDARD
BEGIN:DAYLIGHT
TZOFFSETFROM:+0100
TZOFFSETTO:+0200
TZNAME:CEST
DTSTART:20270328T010000
END:DAYLIGHT
BEGIN:STANDARD
TZOFFSETFROM:+0200
TZOFFSETTO:+0100
TZNAME:CET
DTSTART:20271031T010000
END:STANDARD
END:VTIMEZONE
BEGIN:VEVENT
DTSTART;TZID=Europe/Paris:20260418T080000
DTEND;TZID=Europe/Paris:20260418T170000
DTSTAMP:20260423T195004
CREATED:20260323T125955Z
LAST-MODIFIED:20260323T125955Z
UID:1587-1776499200-1776531600@judo-guebwiller.fr
SUMMARY:Tournois d'Altkirch
DESCRIPTION:PESEE\n\nMinimes : 8 H 00 \nPoussin(e)s : 10 H 00 \nBenjamins : 12 H 00 \nCadets : 14 H 30 \nJuniors\, Séniors\, Vétérans : 16 H 00
URL:https://judo-guebwiller.fr/event/tournois-daltkirch/
END:VEVENT
BEGIN:VEVENT
DTSTART;TZID=Europe/Paris:20260412T080000
DTEND;TZID=Europe/Paris:20260412T170000
DTSTAMP:20260423T195004
CREATED:20260323T125709Z
LAST-MODIFIED:20260323T125709Z
UID:1585-1775980800-1776013200@judo-guebwiller.fr
SUMMARY:Championnat Equipe CADET
DESCRIPTION:Les cadets du judo club de Guebwiller seront en déplacement au championnat par équipe à Vandoeuvre les nancy.
URL:https://judo-guebwiller.fr/event/championnat-equipe-cadet/
END:VEVENT
BEGIN:VEVENT
DTSTART;TZID=Europe/Paris:20260411T080000
DTEND;TZID=Europe/Paris:20260411T170000
DTSTAMP:20260423T195004
CREATED:20260323T125019Z
LAST-MODIFIED:20260323T125019Z
UID:1583-1775894400-1775926800@judo-guebwiller.fr
SUMMARY:Championnats de France VÉTÉRAN
DESCRIPTION:Les Championnats de France VÉTÉRAN auront leu le Samedi 11 avril à Villebon sur Yvette
URL:https://judo-guebwiller.fr/event/championnats-de-france-veteran/
END:VEVENT
BEGIN:VEVENT
DTSTART;TZID=Europe/Paris:20260322T083000
DTEND;TZID=Europe/Paris:20260322T170000
DTSTAMP:20260423T195004
CREATED:20260320T145956Z
LAST-MODIFIED:20260320T145956Z
UID:1529-1774168200-1774198800@judo-guebwiller.fr
SUMMARY:CHAMPIONNAT ALSACE SENIORS 2D / 3D
DESCRIPTION:Informations\nDate d’ouverture : 01.02.2026\nDate de clôture : 15.03.2026 \nLieu : CSRA Mulhouse \nHoraires de pesées : \n08H30-09H00 : -60Kg – 66Kg -73Kg \n10H30-11h00 : -81KG -90KG -100KG +100KG \n14H00-14H30 : toutes les catégories de poids féminines
URL:https://judo-guebwiller.fr/event/championnat-alsace-seniors-2d-3d/
ATTACH;FMTTYPE=image/jpeg:https://judo-guebwiller.fr/wp-content/uploads/2022/01/CHAMPIONAT_JUNIOR_HAUT_RHIN_2022.jpg
END:VEVENT
BEGIN:VEVENT
DTSTART;TZID=Europe/Paris:20260321T083000
DTEND;TZID=Europe/Paris:20260321T170000
DTSTAMP:20260423T195004
CREATED:20260320T145412Z
LAST-MODIFIED:20260320T150036Z
UID:1527-1774081800-1774112400@judo-guebwiller.fr
SUMMARY:CHAMPIONNAT CADETS 2D ET 3D
DESCRIPTION:Informations\nDate d’ouverture : 18.02.2026\nDate de clôture : 11.03.2026 \nCENTRE CULTUREL DE BRUMATH\n29 RUE ANDRE MALRAUX\n67170 BRUMATH \nCRITÈRES DE PARTICIPATION : Ne pas avoir participé aux Championnats de France 1ère Division Cadets. \nAttention : Pour les cadet(te)s 1re année (nés en 2011)\, la participation aux championnats bi-départementaux rendra impossible l’inscription à la phase LGEJ « Cadet(te)s Espoir ». \nQuota : Le premier est sélectionné pour le championnat de France 2D cadets. Le 2ème est sélectionné pour le championnat de France 3D cadets. \nHoraires de pesée communiqués J-7. Tendance : \n  \nHoraires pesée :*\n12h30 Féminines toutes catégories.\n12h30  Masculins -46 à -60 kg.\n13h30  Masculins -66kg à  +90kg.
URL:https://judo-guebwiller.fr/event/championnat-cadets-2d-et-3d/
ATTACH;FMTTYPE=image/jpeg:https://judo-guebwiller.fr/wp-content/uploads/2022/12/1-1.jpg
END:VEVENT
BEGIN:VEVENT
DTSTART;TZID=Europe/Paris:20260314T080000
DTEND;TZID=Europe/Paris:20260314T170000
DTSTAMP:20260423T195004
CREATED:20260306T135222Z
LAST-MODIFIED:20260306T135222Z
UID:1418-1773475200-1773507600@judo-guebwiller.fr
SUMMARY:Evenement de test
DESCRIPTION:dzaazdaz da zdza azd zad azd azd
URL:https://judo-guebwiller.fr/event/evenement-de-test/
LOCATION:Dojo de Guebwiller\, Centre Sportif du Florival\, 9 rue de la Piscine\, Guebwiller\, 68\, 68500\, France
END:VEVENT
BEGIN:VEVENT
DTSTART;TZID=Europe/Paris:20260227T193000
DTEND;TZID=Europe/Paris:20260227T223000
DTSTAMP:20260423T195004
CREATED:20260320T144808Z
LAST-MODIFIED:20260320T144808Z
UID:1524-1772220600-1772231400@judo-guebwiller.fr
SUMMARY:Assemblée générale Judo club de Guebwiller
DESCRIPTION:Assemblée Générale Ordinaire et élective qui se tiendra le\n27/02/2026 à 19H00 – Salle Municipale 1860\, 25 rue de REIMS à GUEBWILLER \nL’ordre du jour retenu est le suivant : \n\nLecture du Procès-Verbal de l’assemblée générale ordinaire du 28 février 2025\nAdoption du Procès-Verbal du 28 février 2025\nRapport moral du président\nRapport d’activité\nRapport financier du trésorier\nBudget prévisionnel 2025/2026\nRapport des réviseurs aux comptes\nRenouvellement du comité directeur et des membres du bureau de l’association « Judo club Guebwiller » pour 3 ans\, mandat 2026-2029\nDésignation d’éventuels nouveaux réviseurs aux comptes et questions diverses\n\nVenez nombreux !
URL:https://judo-guebwiller.fr/event/assemblee-generale-judo-club-de-guebwiller/
ATTACH;FMTTYPE=image/jpeg:https://judo-guebwiller.fr/wp-content/uploads/2026/01/imgi_7_Le_comite_du_judo_club_de_guebwiller.jpg
END:VEVENT
END:VCALENDAR